BEGIN:VCALENDAR
VERSION:2.0
PRODID:-//DLW Storyteller - ECPv6.15.20//NONSGML v1.0//EN
CALSCALE:GREGORIAN
METHOD:PUBLISH
X-ORIGINAL-URL:https://dlwstoryteller.com
X-WR-CALDESC:Events for DLW Storyteller
REFRESH-INTERVAL;VALUE=DURATION:PT1H
X-Robots-Tag:noindex
X-PUBLISHED-TTL:PT1H
BEGIN:VTIMEZONE
TZID:America/New_York
BEGIN:DAYLIGHT
TZOFFSETFROM:-0500
TZOFFSETTO:-0400
TZNAME:EDT
DTSTART:20190310T070000
END:DAYLIGHT
BEGIN:STANDARD
TZOFFSETFROM:-0400
TZOFFSETTO:-0500
TZNAME:EST
DTSTART:20191103T060000
END:STANDARD
BEGIN:DAYLIGHT
TZOFFSETFROM:-0500
TZOFFSETTO:-0400
TZNAME:EDT
DTSTART:20200308T070000
END:DAYLIGHT
BEGIN:STANDARD
TZOFFSETFROM:-0400
TZOFFSETTO:-0500
TZNAME:EST
DTSTART:20201101T060000
END:STANDARD
BEGIN:DAYLIGHT
TZOFFSETFROM:-0500
TZOFFSETTO:-0400
TZNAME:EDT
DTSTART:20210314T070000
END:DAYLIGHT
BEGIN:STANDARD
TZOFFSETFROM:-0400
TZOFFSETTO:-0500
TZNAME:EST
DTSTART:20211107T060000
END:STANDARD
END:VTIMEZONE
BEGIN:VEVENT
DTSTART;TZID=America/New_York:20200110T083000
DTEND;TZID=America/New_York:20200110T103000
DTSTAMP:20260423T060906
CREATED:20190826T195434Z
LAST-MODIFIED:20191204T171427Z
UID:1604-1578645000-1578652200@dlwstoryteller.com
SUMMARY:Storytelling in NC
DESCRIPTION:Two Storytelling Shows
URL:https://dlwstoryteller.com/event/storytelling-in-nc-163/
LOCATION:George Watts Montessori\, 700 Watts St\,\, Durham\, NC\, 27705
END:VEVENT
END:VCALENDAR