BEGIN:VCALENDAR
VERSION:2.0
PRODID:-//DLW Storyteller - ECPv6.15.20//NONSGML v1.0//EN
CALSCALE:GREGORIAN
METHOD:PUBLISH
X-WR-CALNAME:DLW Storyteller
X-ORIGINAL-URL:https://dlwstoryteller.com
X-WR-CALDESC:Events for DLW Storyteller
REFRESH-INTERVAL;VALUE=DURATION:PT1H
X-Robots-Tag:noindex
X-PUBLISHED-TTL:PT1H
BEGIN:VTIMEZONE
TZID:America/New_York
BEGIN:DAYLIGHT
TZOFFSETFROM:-0500
TZOFFSETTO:-0400
TZNAME:EDT
DTSTART:20190310T070000
END:DAYLIGHT
BEGIN:STANDARD
TZOFFSETFROM:-0400
TZOFFSETTO:-0500
TZNAME:EST
DTSTART:20191103T060000
END:STANDARD
BEGIN:DAYLIGHT
TZOFFSETFROM:-0500
TZOFFSETTO:-0400
TZNAME:EDT
DTSTART:20200308T070000
END:DAYLIGHT
BEGIN:STANDARD
TZOFFSETFROM:-0400
TZOFFSETTO:-0500
TZNAME:EST
DTSTART:20201101T060000
END:STANDARD
BEGIN:DAYLIGHT
TZOFFSETFROM:-0500
TZOFFSETTO:-0400
TZNAME:EDT
DTSTART:20210314T070000
END:DAYLIGHT
BEGIN:STANDARD
TZOFFSETFROM:-0400
TZOFFSETTO:-0500
TZNAME:EST
DTSTART:20211107T060000
END:STANDARD
END:VTIMEZONE
BEGIN:VEVENT
DTSTART;TZID=America/New_York:20200208T110000
DTEND;TZID=America/New_York:20200208T120000
DTSTAMP:20260423T074415
CREATED:20190129T170202Z
LAST-MODIFIED:20190129T170202Z
UID:1271-1581159600-1581163200@dlwstoryteller.com
SUMMARY:Storytelling in NC
DESCRIPTION:One Storytelling Show
URL:https://dlwstoryteller.com/event/storytelling-in-nc-113/
LOCATION:Carolina Theatre of Durham\, 309 W Morgan St\, Durham\, NC\, 27701
END:VEVENT
BEGIN:VEVENT
DTSTART;TZID=America/New_York:20200208T183000
DTEND;TZID=America/New_York:20200208T220000
DTSTAMP:20260423T074415
CREATED:20191205T180140Z
LAST-MODIFIED:20200208T205647Z
UID:1755-1581186600-1581199200@dlwstoryteller.com
SUMMARY:Storytelling in NC
DESCRIPTION:One Storytelling Show Bynum Front Porch
URL:https://dlwstoryteller.com/event/storytelling-in-nc-189/
LOCATION:Bynum Front Porch\, 950 Bynum Rd\,\, Pittsboro\, NC\, 27312
END:VEVENT
END:VCALENDAR