BEGIN:VCALENDAR
VERSION:2.0
PRODID:-//DLW Storyteller - ECPv6.15.20//NONSGML v1.0//EN
CALSCALE:GREGORIAN
METHOD:PUBLISH
X-ORIGINAL-URL:https://dlwstoryteller.com
X-WR-CALDESC:Events for DLW Storyteller
REFRESH-INTERVAL;VALUE=DURATION:PT1H
X-Robots-Tag:noindex
X-PUBLISHED-TTL:PT1H
BEGIN:VTIMEZONE
TZID:America/New_York
BEGIN:DAYLIGHT
TZOFFSETFROM:-0500
TZOFFSETTO:-0400
TZNAME:EDT
DTSTART:20240310T070000
END:DAYLIGHT
BEGIN:STANDARD
TZOFFSETFROM:-0400
TZOFFSETTO:-0500
TZNAME:EST
DTSTART:20241103T060000
END:STANDARD
BEGIN:DAYLIGHT
TZOFFSETFROM:-0500
TZOFFSETTO:-0400
TZNAME:EDT
DTSTART:20250309T070000
END:DAYLIGHT
BEGIN:STANDARD
TZOFFSETFROM:-0400
TZOFFSETTO:-0500
TZNAME:EST
DTSTART:20251102T060000
END:STANDARD
BEGIN:DAYLIGHT
TZOFFSETFROM:-0500
TZOFFSETTO:-0400
TZNAME:EDT
DTSTART:20260308T070000
END:DAYLIGHT
BEGIN:STANDARD
TZOFFSETFROM:-0400
TZOFFSETTO:-0500
TZNAME:EST
DTSTART:20261101T060000
END:STANDARD
END:VTIMEZONE
BEGIN:VEVENT
DTSTART;TZID=America/New_York:20250228T083000
DTEND;TZID=America/New_York:20250228T103000
DTSTAMP:20260422T223553
CREATED:20240911T195720Z
LAST-MODIFIED:20250220T210435Z
UID:5780-1740731400-1740738600@dlwstoryteller.com
SUMMARY:Storytelling in Wake Forest\, NC
DESCRIPTION:Two Cultural Arts Performances
URL:https://dlwstoryteller.com/event/storytelling-in-wake-forest-nc-6/
LOCATION:Franklin Academy\, 1127 Chalk Road\, Wake Forest\, NC\, 27587
END:VEVENT
BEGIN:VEVENT
DTSTART;TZID=America/New_York:20250228T123000
DTEND;TZID=America/New_York:20250228T143000
DTSTAMP:20260422T223553
CREATED:20241002T174553Z
LAST-MODIFIED:20241002T174553Z
UID:5822-1740745800-1740753000@dlwstoryteller.com
SUMMARY:Storytelling in Chapel Hill\, NC
DESCRIPTION:Two Cultural Arts Performances
URL:https://dlwstoryteller.com/event/storytelling-in-chapel-hill-nc-6/
LOCATION:Ephesus Elementary School\, 1495 Ephesus Church Rd.\, Chapel Hill\, NC\, 27517
END:VEVENT
END:VCALENDAR