BEGIN:VCALENDAR
VERSION:2.0
PRODID:-//DLW Storyteller - ECPv6.15.20//NONSGML v1.0//EN
CALSCALE:GREGORIAN
METHOD:PUBLISH
X-WR-CALNAME:DLW Storyteller
X-ORIGINAL-URL:https://dlwstoryteller.com
X-WR-CALDESC:Events for DLW Storyteller
REFRESH-INTERVAL;VALUE=DURATION:PT1H
X-Robots-Tag:noindex
X-PUBLISHED-TTL:PT1H
BEGIN:VTIMEZONE
TZID:America/New_York
BEGIN:DAYLIGHT
TZOFFSETFROM:-0500
TZOFFSETTO:-0400
TZNAME:EDT
DTSTART:20180311T070000
END:DAYLIGHT
BEGIN:STANDARD
TZOFFSETFROM:-0400
TZOFFSETTO:-0500
TZNAME:EST
DTSTART:20181104T060000
END:STANDARD
BEGIN:DAYLIGHT
TZOFFSETFROM:-0500
TZOFFSETTO:-0400
TZNAME:EDT
DTSTART:20190310T070000
END:DAYLIGHT
BEGIN:STANDARD
TZOFFSETFROM:-0400
TZOFFSETTO:-0500
TZNAME:EST
DTSTART:20191103T060000
END:STANDARD
BEGIN:DAYLIGHT
TZOFFSETFROM:-0500
TZOFFSETTO:-0400
TZNAME:EDT
DTSTART:20200308T070000
END:DAYLIGHT
BEGIN:STANDARD
TZOFFSETFROM:-0400
TZOFFSETTO:-0500
TZNAME:EST
DTSTART:20201101T060000
END:STANDARD
END:VTIMEZONE
BEGIN:VEVENT
DTSTART;VALUE=DATE:20190730
DTEND;VALUE=DATE:20190804
DTSTAMP:20260422T223527
CREATED:20190715T192429Z
LAST-MODIFIED:20190715T192429Z
UID:1546-1564444800-1564876799@dlwstoryteller.com
SUMMARY:Consulting in Canada
DESCRIPTION:Montreal Canada
URL:https://dlwstoryteller.com/event/consulting-in-canada/
END:VEVENT
BEGIN:VEVENT
DTSTART;TZID=America/New_York:20190818T090000
DTEND;TZID=America/New_York:20190818T120000
DTSTAMP:20260422T223527
CREATED:20190730T124007Z
LAST-MODIFIED:20190730T124007Z
UID:1559-1566118800-1566129600@dlwstoryteller.com
SUMMARY:Storytelling in NC
DESCRIPTION:Two Storytelling Shows
URL:https://dlwstoryteller.com/event/storytelling-in-nc-114/
LOCATION:Community Church of Chapel Hill\, 106 Purefoy Rd\, Chapel Hill\, NC\, 27514
END:VEVENT
BEGIN:VEVENT
DTSTART;TZID=America/New_York:20190830T091500
DTEND;TZID=America/New_York:20190830T101500
DTSTAMP:20260422T223527
CREATED:20190808T222612Z
LAST-MODIFIED:20190829T231703Z
UID:1571-1567156500-1567160100@dlwstoryteller.com
SUMMARY:Storytelling in Illinois
DESCRIPTION:Two Storytelling Shows
URL:https://dlwstoryteller.com/event/storytelling-in-illinois-15/
LOCATION:Welch Elementary School\, 2620 Leverenz Rd.\, Naperville\, IL\, 60564
END:VEVENT
BEGIN:VEVENT
DTSTART;TZID=America/New_York:20190830T130000
DTEND;TZID=America/New_York:20190830T150000
DTSTAMP:20260422T223527
CREATED:20190604T152431Z
LAST-MODIFIED:20190604T152431Z
UID:1518-1567170000-1567177200@dlwstoryteller.com
SUMMARY:Storytelling in IL
DESCRIPTION:Two Storytelling Shows
URL:https://dlwstoryteller.com/event/storytelling-in-il-2/
LOCATION:Graham Elementary School\, 2315 High Meadow Rd\, Naperville\, IL\, 60564
END:VEVENT
END:VCALENDAR