BEGIN:VCALENDAR
VERSION:2.0
PRODID:-//DLW Storyteller - ECPv6.15.20//NONSGML v1.0//EN
CALSCALE:GREGORIAN
METHOD:PUBLISH
X-WR-CALNAME:DLW Storyteller
X-ORIGINAL-URL:https://dlwstoryteller.com
X-WR-CALDESC:Events for DLW Storyteller
REFRESH-INTERVAL;VALUE=DURATION:PT1H
X-Robots-Tag:noindex
X-PUBLISHED-TTL:PT1H
BEGIN:VTIMEZONE
TZID:America/New_York
BEGIN:DAYLIGHT
TZOFFSETFROM:-0500
TZOFFSETTO:-0400
TZNAME:EDT
DTSTART:20180311T070000
END:DAYLIGHT
BEGIN:STANDARD
TZOFFSETFROM:-0400
TZOFFSETTO:-0500
TZNAME:EST
DTSTART:20181104T060000
END:STANDARD
BEGIN:DAYLIGHT
TZOFFSETFROM:-0500
TZOFFSETTO:-0400
TZNAME:EDT
DTSTART:20190310T070000
END:DAYLIGHT
BEGIN:STANDARD
TZOFFSETFROM:-0400
TZOFFSETTO:-0500
TZNAME:EST
DTSTART:20191103T060000
END:STANDARD
BEGIN:DAYLIGHT
TZOFFSETFROM:-0500
TZOFFSETTO:-0400
TZNAME:EDT
DTSTART:20200308T070000
END:DAYLIGHT
BEGIN:STANDARD
TZOFFSETFROM:-0400
TZOFFSETTO:-0500
TZNAME:EST
DTSTART:20201101T060000
END:STANDARD
END:VTIMEZONE
BEGIN:VEVENT
DTSTART;TZID=America/New_York:20191202T094500
DTEND;TZID=America/New_York:20191202T114500
DTSTAMP:20260423T032729
CREATED:20191113T154527Z
LAST-MODIFIED:20191113T154527Z
UID:1743-1575279900-1575287100@dlwstoryteller.com
SUMMARY:Storytelling in NC
DESCRIPTION:Two Storytelling Shows
URL:https://dlwstoryteller.com/event/storytelling-in-nc-187/
LOCATION:Brooks Elementary School\, 700 Northbrook Dr\,\, Raleigh\, NC\, 27609
END:VEVENT
BEGIN:VEVENT
DTSTART;TZID=America/New_York:20191205T080000
DTEND;TZID=America/New_York:20191205T100000
DTSTAMP:20260423T032729
CREATED:20191101T161637Z
LAST-MODIFIED:20191204T155342Z
UID:1728-1575532800-1575540000@dlwstoryteller.com
SUMMARY:Residency in NC
DESCRIPTION:Workshops with 2nd grades
URL:https://dlwstoryteller.com/event/residency-in-nc-2/
LOCATION:Elizabeth Lane Elementary School\, 121 Elizabeth Ln\, Matthews\, NC\, 28105
END:VEVENT
BEGIN:VEVENT
DTSTART;TZID=America/New_York:20191206T080000
DTEND;TZID=America/New_York:20191206T100000
DTSTAMP:20260423T032729
CREATED:20191101T161746Z
LAST-MODIFIED:20191204T155413Z
UID:1730-1575619200-1575626400@dlwstoryteller.com
SUMMARY:Residency in NC
DESCRIPTION:Workshops with 2nd grades
URL:https://dlwstoryteller.com/event/residency-in-nc-3/
LOCATION:Elizabeth Lane Elementary School\, 121 Elizabeth Ln\, Matthews\, NC\, 28105
END:VEVENT
BEGIN:VEVENT
DTSTART;TZID=America/New_York:20191210T190000
DTEND;TZID=America/New_York:20191210T200000
DTSTAMP:20260423T032729
CREATED:20190311T020644Z
LAST-MODIFIED:20190404T024053Z
UID:1417-1576004400-1576008000@dlwstoryteller.com
SUMMARY:Storytelling in NY
DESCRIPTION:One Storytelling Show
URL:https://dlwstoryteller.com/event/storytelling-in-ny/
LOCATION:SUNY Oneonta\, 108 Ravine Parkway\, Oneonta\, NY\, 13820
END:VEVENT
BEGIN:VEVENT
DTSTART;TZID=America/New_York:20191217T093000
DTEND;TZID=America/New_York:20191217T113000
DTSTAMP:20260423T032729
CREATED:20190827T140917Z
LAST-MODIFIED:20190827T140917Z
UID:1609-1576575000-1576582200@dlwstoryteller.com
SUMMARY:Storytelling in NC
DESCRIPTION:Two Storytelling Shows
URL:https://dlwstoryteller.com/event/storytelling-in-nc-165/
LOCATION:Pleasant Union Elementary School\, 1900 Pleasant Union Church Rd.\, Raleigh\, NC\, 27614
END:VEVENT
BEGIN:VEVENT
DTSTART;TZID=America/New_York:20191218T083000
DTEND;TZID=America/New_York:20191218T093000
DTSTAMP:20260423T032729
CREATED:20190826T145515Z
LAST-MODIFIED:20191202T211025Z
UID:1601-1576657800-1576661400@dlwstoryteller.com
SUMMARY:Storytelling in NC
DESCRIPTION:One Storytelling Show
URL:https://dlwstoryteller.com/event/storytelling-in-nc-162/
LOCATION:Moore Square Middle School\, 301 S Person St.\, Raleigh\, NC\, 27601
END:VEVENT
END:VCALENDAR