BEGIN:VCALENDAR
VERSION:2.0
PRODID:-//DLW Storyteller - ECPv6.15.20//NONSGML v1.0//EN
CALSCALE:GREGORIAN
METHOD:PUBLISH
X-WR-CALNAME:DLW Storyteller
X-ORIGINAL-URL:https://dlwstoryteller.com
X-WR-CALDESC:Events for DLW Storyteller
REFRESH-INTERVAL;VALUE=DURATION:PT1H
X-Robots-Tag:noindex
X-PUBLISHED-TTL:PT1H
BEGIN:VTIMEZONE
TZID:America/New_York
BEGIN:DAYLIGHT
TZOFFSETFROM:-0500
TZOFFSETTO:-0400
TZNAME:EDT
DTSTART:20220313T070000
END:DAYLIGHT
BEGIN:STANDARD
TZOFFSETFROM:-0400
TZOFFSETTO:-0500
TZNAME:EST
DTSTART:20221106T060000
END:STANDARD
BEGIN:DAYLIGHT
TZOFFSETFROM:-0500
TZOFFSETTO:-0400
TZNAME:EDT
DTSTART:20230312T070000
END:DAYLIGHT
BEGIN:STANDARD
TZOFFSETFROM:-0400
TZOFFSETTO:-0500
TZNAME:EST
DTSTART:20231105T060000
END:STANDARD
BEGIN:DAYLIGHT
TZOFFSETFROM:-0500
TZOFFSETTO:-0400
TZNAME:EDT
DTSTART:20240310T070000
END:DAYLIGHT
BEGIN:STANDARD
TZOFFSETFROM:-0400
TZOFFSETTO:-0500
TZNAME:EST
DTSTART:20241103T060000
END:STANDARD
END:VTIMEZONE
BEGIN:VEVENT
DTSTART;TZID=America/New_York:20231003T090000
DTEND;TZID=America/New_York:20231003T110000
DTSTAMP:20260425T085037
CREATED:20230722T023406Z
LAST-MODIFIED:20230912T152733Z
UID:5101-1696323600-1696330800@dlwstoryteller.com
SUMMARY:Storytelling in Stewartsville\, VA
DESCRIPTION:Two Cultural Arts Shows
URL:https://dlwstoryteller.com/event/storytelling-in-stewartsville-va/
END:VEVENT
BEGIN:VEVENT
DTSTART;TZID=America/New_York:20231005T090000
DTEND;TZID=America/New_York:20231005T120000
DTSTAMP:20260425T085037
CREATED:20230911T204448Z
LAST-MODIFIED:20230912T141356Z
UID:5199-1696496400-1696507200@dlwstoryteller.com
SUMMARY:Presentation in Raleigh
DESCRIPTION:NCSL Conference TBD
URL:https://dlwstoryteller.com/event/presentation-in-raleigh/
END:VEVENT
BEGIN:VEVENT
DTSTART;TZID=America/New_York:20231006T080000
DTEND;TZID=America/New_York:20231007T170000
DTSTAMP:20260425T085037
CREATED:20230613T182706Z
LAST-MODIFIED:20230613T182706Z
UID:5033-1696579200-1696698000@dlwstoryteller.com
SUMMARY:Presentation in Winston Salem\, NC
DESCRIPTION:North Carolina State Library Media Association Conference TBD
URL:https://dlwstoryteller.com/event/presentation-in-winston-salem-nc/
END:VEVENT
BEGIN:VEVENT
DTSTART;TZID=America/New_York:20231010T100000
DTEND;TZID=America/New_York:20231010T110000
DTSTAMP:20260425T085037
CREATED:20230712T230411Z
LAST-MODIFIED:20230714T184713Z
UID:5064-1696932000-1696935600@dlwstoryteller.com
SUMMARY:Storytelling in Florence\, SC
DESCRIPTION:One Storytelling Show
URL:https://dlwstoryteller.com/event/storytelling-in-florence-sc/
LOCATION:Florece County Library\, 509 S Dargan St.\, Florence 29506\, SC\, 29506
END:VEVENT
BEGIN:VEVENT
DTSTART;TZID=America/New_York:20231010T173000
DTEND;TZID=America/New_York:20231010T183000
DTSTAMP:20260425T085037
CREATED:20230714T184835Z
LAST-MODIFIED:20230714T184835Z
UID:5069-1696959000-1696962600@dlwstoryteller.com
SUMMARY:Storytelling in Florence\, SC
DESCRIPTION:One Storytelling Show
URL:https://dlwstoryteller.com/event/storytelling-in-florence-sc-2/
LOCATION:Florece County Library\, 509 S Dargan St.\, Florence 29506\, SC\, 29506
END:VEVENT
BEGIN:VEVENT
DTSTART;TZID=America/New_York:20231014T110000
DTEND;TZID=America/New_York:20231014T130000
DTSTAMP:20260425T085037
CREATED:20230801T205723Z
LAST-MODIFIED:20230801T205723Z
UID:5119-1697281200-1697288400@dlwstoryteller.com
SUMMARY:Workshop in Roxboro\, NC
DESCRIPTION:Storycrafting Workshop
URL:https://dlwstoryteller.com/event/workshop-in-roxboro-nc/
LOCATION:kirby cultural arts complex\, 213 N. Main Street\, Roxboro\, NC\, 27573
END:VEVENT
BEGIN:VEVENT
DTSTART;TZID=America/New_York:20231016T080000
DTEND;TZID=America/New_York:20231020T170000
DTSTAMP:20260425T085037
CREATED:20230526T173858Z
LAST-MODIFIED:20230526T173858Z
UID:5002-1697443200-1697821200@dlwstoryteller.com
SUMMARY:Residency in Mount Holly\, NC
DESCRIPTION:Pinewood Elementary TBA
URL:https://dlwstoryteller.com/event/residency-in-mount-holly-nc/
LOCATION:Pinewood Elementary\, 1925 N Main St.\, Mount Holly\, NC\, 28120
END:VEVENT
BEGIN:VEVENT
DTSTART;TZID=America/New_York:20231021T150000
DTEND;TZID=America/New_York:20231021T160000
DTSTAMP:20260425T085037
CREATED:20230722T014425Z
LAST-MODIFIED:20231004T004512Z
UID:5091-1697900400-1697904000@dlwstoryteller.com
SUMMARY:Storytelling in Raleigh\, NC
DESCRIPTION:Storytelling at PoeFest
URL:https://dlwstoryteller.com/event/storytelling-in-raleigh-nc-19/
LOCATION:Poe Center\, 224 Sunnybrook Rd.\, Raleigh\, NC\, 27610
END:VEVENT
BEGIN:VEVENT
DTSTART;VALUE=DATE:20231023
DTEND;VALUE=DATE:20231028
DTSTAMP:20260425T085037
CREATED:20230714T185800Z
LAST-MODIFIED:20230725T145105Z
UID:5071-1698019200-1698451199@dlwstoryteller.com
SUMMARY:Residency in Canton\, NC
DESCRIPTION:Week long Residency
URL:https://dlwstoryteller.com/event/residency-in-canton-nc/
LOCATION:North Canton Elementary School\, 60 Thompson St\, Canton\, NC 28716\, Canton\, NC\, 28716
END:VEVENT
BEGIN:VEVENT
DTSTART;TZID=America/New_York:20231028T110000
DTEND;TZID=America/New_York:20231028T120000
DTSTAMP:20260425T085037
CREATED:20230805T180834Z
LAST-MODIFIED:20230808T143511Z
UID:5125-1698490800-1698494400@dlwstoryteller.com
SUMMARY:Author Event in Chapel Hill\, NC
DESCRIPTION:Author Appearance and Book Signing
URL:https://dlwstoryteller.com/event/author-event-in-chapel-hill-nc/
LOCATION:Flyleaf Bookstore\, 752 M.L.K. Jr Blvd\, Chapel Hill\, NC\, 27514
END:VEVENT
BEGIN:VEVENT
DTSTART;TZID=America/New_York:20231030T090000
DTEND;TZID=America/New_York:20231030T140000
DTSTAMP:20260425T085037
CREATED:20231002T183303Z
LAST-MODIFIED:20231010T213149Z
UID:5220-1698656400-1698674400@dlwstoryteller.com
SUMMARY:Storytelling in Wake Forest\, NC
DESCRIPTION:Three Cultural Arts Performances
URL:https://dlwstoryteller.com/event/storytelling-in-wake-forest-nc-2/
LOCATION:Envision Science Academy\, 590 Traditions Grande Blvd.\, Wake Forest\, NC\, 27587
END:VEVENT
BEGIN:VEVENT
DTSTART;TZID=America/New_York:20231031T092500
DTEND;TZID=America/New_York:20231031T150000
DTSTAMP:20260425T085037
CREATED:20230712T192152Z
LAST-MODIFIED:20230712T192219Z
UID:5062-1698744300-1698764400@dlwstoryteller.com
SUMMARY:Storytelling in Wendell\, NC
DESCRIPTION:Three Cultural Arts Shows
URL:https://dlwstoryteller.com/event/storytelling-in-wendell-nc-2/
LOCATION:Wendell Middle School\, 3409 NC-97\, Wendell\, 27591\, United States
END:VEVENT
END:VCALENDAR